BEGIN:VCALENDAR
VERSION:2.0
PRODID:-//pretix//pretix.eu//
BEGIN:VTIMEZONE
TZID:Europe/Berlin
BEGIN:STANDARD
DTSTART:20001029T040000
RRULE:FREQ=YEARLY;BYDAY=-1SU;BYMONTH=10
TZNAME:CET
TZOFFSETFROM:+0200
TZOFFSETTO:+0100
END:STANDARD
BEGIN:DAYLIGHT
DTSTART:20000326T030000
RRULE:FREQ=YEARLY;BYDAY=-1SU;BYMONTH=3
TZNAME:CEST
TZOFFSETFROM:+0100
TZOFFSETTO:+0200
END:DAYLIGHT
END:VTIMEZONE
BEGIN:VEVENT
UID:pretix-tubukg-tickets-4722539@tubukg.vereinsticket.de
DTSTART;TZID=Europe/Berlin:20260425T193000
DTEND;TZID=Europe/Berlin:20260425T203000
DESCRIPTION:Tickets: https://tubukg.vereinsticket.de/tickets/4722539/\nEinl
 ass: 25.04.2026 18:30\nVeranstalter: Turnerbund Kappel-Grafenhausen e.V.
DTSTAMP:20260425T103538Z
LOCATION:Festhalle Kappel\, Rathausstraße\, 77966 Kappel-Grafenhausen
SUMMARY:Schauturnen Samstag
END:VEVENT
END:VCALENDAR
